BEGIN:VCALENDAR
VERSION:2.0
CALSCALE:GREGORIAN
METHOD:PUBLISH
PRODID://ISRQ//516670
BEGIN:VEVENT
DTSTAMP:20260421T132618
VTIMEZONE:America/New_York
DTSTART:20260519T143000Z
DTEND:20260519T153000Z
UID:516670
SUMMARY:FAC Information Session
LOCATION:Gulf Gate Library, 7112 Curtiss Avenue, Sarasota, FL, 34231
DESCRIPTION:FAC Information Session\n\n05/19/26 10:30 AM EST\n - 05/19/26 11:30 AM EST\Description:\nTo orient new and returning Focus Area Committee (FAC) members to the FAC process and what's new for 2026!\Details:\nAll new Focus Area Committee (FAC) members and returning FAC members are invited to attend this FAC Information event. It is an opportunity to learn "Everything You Want to Know About Serving on an FAC." Grants Team members will walk you through the Grant Application Review Process and your FAC Directors will provide timelines, responsibilities and FAC event schedules. A must-do for all our Focus Area Committee members!\n\nNote: On May 20th, there will be a session on Zoom at 5:30pm for those who cannot make it to this session. Please check the calendar of events and register for the event you can attend. The material covered will be the same at the in-person and Zoom session--you only need to attend one. THANKS!\n \Location:\nGulf Gate Library\n7112 Curtiss Avenue\nSarasota, FL 34231
X-ALT-DESC;FMTTYPE=text/html:FAC Information Session<br /><br />05/19/26 10:30 AM EST - 05/19/26 11:30 AM EST<br />Description:<br />To orient new and returning Focus Area Committee (FAC) members to the FAC process and what's new for 2026!<br />Details:<br />All new Focus Area Committee (FAC) members and returning FAC members are invited to attend this FAC Information event. It is an opportunity to learn &quot;Everything You Want to Know About Serving on an FAC.&quot; Grants Team members will walk you through the Grant Application Review Process and your FAC Directors will provide timelines, responsibilities and FAC event schedules. A must-do for all our Focus Area Committee members!<br />
<br />
Note: On May 20th, there will be a session on Zoom at 5:30pm for those who cannot make it to this session. Please check the calendar of events and register for the event you can attend. The material covered will be the same at the in-person and Zoom session--you only need to attend one. THANKS!<br />
&nbsp;<br />Location:<br />Gulf Gate Library<br />7112 Curtiss Avenue<br />Sarasota, FL 34231
PRIORITY:3
TRANSP:TRANSPARENT
BEGIN:VALARM
TRIGGER:-PT5M
ACTION:DISPLAY
DESCRIPTION:Reminder
END:VALARM
END:VEVENT
END:VCALENDAR
