BEGIN:VCALENDAR
VERSION:2.0
CALSCALE:GREGORIAN
METHOD:PUBLISH
PRODID://ISRQ//516677
BEGIN:VEVENT
DTSTAMP:20260421T113035
VTIMEZONE:America/New_York
DTSTART:20260520T213000Z
DTEND:20260520T223000Z
UID:516677
SUMMARY:FAC Information Session (Zoom)
LOCATION:Zoom (link to be sent separately)
DESCRIPTION:FAC Information Session (Zoom)\n\n05/20/26 05:30 PM EST\n - 05/20/26 06:30 PM EST\Description:\nTo orient new and returning Focus Area Committee (FAC) members to the FAC process.\Details:\nAll new Focus Area Committee (FAC) members and returning FAC members are invited to attend this FAC Information event. It is an opportunity to learn "Everything You Want to Know About Serving on an FAC." Grants Team members will walk you through the Grant Application Review Process and your FAC Directors will provide timelines, responsibilities and FAC event schedules. A must-do for all our Focus Area Committee members!\n\nNote: This is a repeat of the in-person session being held on May 19 at 10:30AM at Gulf Gate Library. Since the material covered will be the same, you do not need to attend both sessions.\Location:\nZoom (link to be sent separately)\n\n,
X-ALT-DESC;FMTTYPE=text/html:FAC Information Session (Zoom)<br /><br />05/20/26 05:30 PM EST - 05/20/26 06:30 PM EST<br />Description:<br />To orient new and returning Focus Area Committee (FAC) members to the FAC process.<br />Details:<br />All new Focus Area Committee (FAC) members and returning FAC members are invited to attend this FAC Information event. It is an opportunity to learn &quot;Everything You Want to Know About Serving on an FAC.&quot; Grants Team members will walk you through the Grant Application Review Process and your FAC Directors will provide timelines, responsibilities and FAC event schedules. A must-do for all our Focus Area Committee members!<br />
<br />
Note: This is a repeat of the in-person session being held on May 19 at 10:30AM at Gulf Gate Library. Since the material covered will be the same, you do not need to attend both sessions.<br />Location:<br />Zoom (link to be sent separately)<br /><br />,  
PRIORITY:3
TRANSP:TRANSPARENT
BEGIN:VALARM
TRIGGER:-PT5M
ACTION:DISPLAY
DESCRIPTION:Reminder
END:VALARM
END:VEVENT
END:VCALENDAR
